BEGIN:VCALENDAR
VERSION:2.0
PRODID:-//Squarespace Inc/Squarespace 6//v6//EN
BEGIN:VEVENT
UID:5a0ac69d085229359de2ddb1@squarespace.com
DTSTAMP:20171114T104643Z
DTSTART:20171129T103000Z
DTEND:20171129T113000Z
SUMMARY:AJ 2019 Information Meeting
END:VEVENT
END:VCALENDAR
