BEGIN:VCALENDAR
VERSION:2.0
PRODID:-//Squarespace Inc/Squarespace 6//v6//EN
BEGIN:VEVENT
UID:5ac3200f562fa73cd8945e7a@squarespace.com
DTSTAMP:20180403T063418Z
DTSTART:20180424T214500Z
DTEND:20180424T234500Z
SUMMARY:ANZAC Day Dawn Service
END:VEVENT
END:VCALENDAR
