BEGIN:VCALENDAR
VERSION:2.0
PRODID:-//Squarespace Inc/Squarespace 6//v6//EN
BEGIN:VEVENT
UID:570102fac6fc084cc7ee4ed9@squarespace.com
DTSTAMP:20160407T075615Z
DTSTART:20160424T214500Z
DTEND:20160425T000000Z
SUMMARY:ANZAC Day Dawn Service
GEO:-32.035896;115.785931
LOCATION:Bicton RSL\, cnr Canning Hwy Foss St\, Bicton
END:VEVENT
END:VCALENDAR
