BEGIN:VCALENDAR
VERSION:2.0
PRODID:-//Squarespace Inc/Squarespace 6//v6//EN
BEGIN:VEVENT
UID:5a52f9360852298a1241b0a7@squarespace.com
DTSTAMP:20180108T045422Z
DTSTART:20180125T230000Z
DTEND:20180126T030000Z
SUMMARY:Australia Day Breakfast
END:VEVENT
END:VCALENDAR
