BEGIN:VCALENDAR
VERSION:2.0
PRODID:-//Squarespace Inc/Squarespace 6//v6//EN
BEGIN:VEVENT
UID:59e4b034f6576e84f911284a@squarespace.com
DTSTAMP:20171016T132434Z
DTSTART:20171020T090000Z
DTEND:20171022T035500Z
SUMMARY:Bibulman Track Hike - Mt Dale
END:VEVENT
END:VCALENDAR
