BEGIN:VCALENDAR
VERSION:2.0
PRODID:-//Squarespace Inc/Squarespace 6//v6//EN
BEGIN:VEVENT
UID:5b7e3a6c8a922d753f3ec6f9@squarespace.com
DTSTAMP:20180828T033602Z
DTSTART:20180830T101500Z
DTEND:20180830T114500Z
SUMMARY:Bull Creek Aviation Museum
END:VEVENT
END:VCALENDAR
