BEGIN:VCALENDAR
VERSION:2.0
PRODID:-//Squarespace Inc/Squarespace 6//v6//EN
BEGIN:VEVENT
UID:588860b4e3df28abe3a2e6f9@squarespace.com
DTSTAMP:20170519T123809Z
DTSTART:20170929T160000Z
DTEND:20171006T040000Z
SUMMARY:CampWest
END:VEVENT
END:VCALENDAR
