BEGIN:VCALENDAR
VERSION:2.0
PRODID:-//Squarespace Inc/Squarespace 6//v6//EN
BEGIN:VEVENT
UID:5a1a4fffc83025aa86551959@squarespace.com
DTSTAMP:20171126T053820Z
DTSTART:20171130T100000Z
DTEND:20171130T114500Z
SUMMARY:Christmas Break-up PARTY 6pm Start
END:VEVENT
END:VCALENDAR
