BEGIN:VCALENDAR
VERSION:2.0
PRODID:-//Squarespace Inc/Squarespace 6//v6//EN
BEGIN:VEVENT
UID:59bfc40b32601e7e6743eded@squarespace.com
DTSTAMP:20170918T130629Z
DTSTART:20170921T103000Z
DTEND:20170921T120000Z
SUMMARY:Combined Canning & Bullcreek Leeming Cubs CampFire
GEO:-32.01935;115.89923
LOCATION:Caning Sea Scouts\, 19 Centenary Avenue\, Wilson\, WA\, 6107\, Aus
 tralia
END:VEVENT
END:VCALENDAR
