BEGIN:VCALENDAR
VERSION:2.0
PRODID:-//Squarespace Inc/Squarespace 6//v6//EN
BEGIN:VEVENT
UID:591a77f2197aead0519dde94@squarespace.com
DTSTAMP:20170516T053331Z
DTSTART:20170610T003000Z
DTEND:20170611T013000Z
SUMMARY:CSL Course
END:VEVENT
END:VCALENDAR
