BEGIN:VCALENDAR
VERSION:2.0
PRODID:-//Squarespace Inc/Squarespace 6//v6//EN
BEGIN:VEVENT
UID:571ff11cf85082c489b2c7ff@squarespace.com
DTSTAMP:20160502T041855Z
DTSTART:20160505T101500Z
DTEND:20160505T114500Z
SUMMARY:Cubs recommence Term Two
END:VEVENT
END:VCALENDAR
