BEGIN:VCALENDAR
VERSION:2.0
PRODID:-//Squarespace Inc/Squarespace 6//v6//EN
BEGIN:VEVENT
UID:5b837a1b575d1f3286d39205@squarespace.com
DTSTAMP:20180827T041353Z
DTSTART:20180915T003000Z
DTEND:20180916T063000Z
SUMMARY:District Cub Scout Leadership Course
END:VEVENT
END:VCALENDAR
