BEGIN:VCALENDAR
VERSION:2.0
PRODID:-//Squarespace Inc/Squarespace 6//v6//EN
BEGIN:VEVENT
UID:572bf3f6d210b8c5f4d3ddd9@squarespace.com
DTSTAMP:20160604T141245Z
DTSTART:20160624T080000Z
DTEND:20160626T050000Z
SUMMARY:Fairbridge Jungle Cub Camp
END:VEVENT
END:VCALENDAR
