BEGIN:VCALENDAR
VERSION:2.0
PRODID:-//Squarespace Inc/Squarespace 6//v6//EN
BEGIN:VEVENT
UID:5b1e50ba88251b8e2e3fb29c@squarespace.com
DTSTAMP:20180611T103840Z
DTSTART:20180616T020000Z
DTEND:20180616T050000Z
SUMMARY:Joey Hike
END:VEVENT
END:VCALENDAR
