BEGIN:VCALENDAR
VERSION:2.0
PRODID:-//Squarespace Inc/Squarespace 6//v6//EN
BEGIN:VEVENT
UID:5bf5e1cd352f534626a22c6c@squarespace.com
DTSTAMP:20181121T230124Z
DTSTART:20181201T060000Z
DTEND:20181201T080000Z
SUMMARY:Joey Lesmurdie Hike - Bush Walk
END:VEVENT
END:VCALENDAR
