BEGIN:VCALENDAR
VERSION:2.0
PRODID:-//Squarespace Inc/Squarespace 6//v6//EN
BEGIN:VEVENT
UID:59cf5c9c8fd4d2d3f2fc2ad6@squarespace.com
DTSTAMP:20171114T104631Z
DTSTART:20171118T050000Z
DTEND:20171118T110000Z
SUMMARY:Joey Splash 
END:VEVENT
END:VCALENDAR
