BEGIN:VCALENDAR
VERSION:2.0
PRODID:-//Squarespace Inc/Squarespace 6//v6//EN
BEGIN:VEVENT
UID:5a52f57553450aea17356d32@squarespace.com
DTSTAMP:20180108T043827Z
DTSTART:20180208T081500Z
DTEND:20180208T091500Z
SUMMARY:Joeys Commence Term One
END:VEVENT
END:VCALENDAR
