BEGIN:VCALENDAR
VERSION:2.0
PRODID:-//Squarespace Inc/Squarespace 6//v6//EN
BEGIN:VEVENT
UID:5ac9674f758d46742a404e22@squarespace.com
DTSTAMP:20180430T222345Z
DTSTART:20180514T081500Z
DTEND:20180514T091500Z
SUMMARY:Joeys Term Two
END:VEVENT
END:VCALENDAR
