BEGIN:VCALENDAR
VERSION:2.0
PRODID:-//Squarespace Inc/Squarespace 6//v6//EN
BEGIN:VEVENT
UID:5bc130e308522912c42b04ce@squarespace.com
DTSTAMP:20181012T234306Z
DTSTART:20181020T000000Z
DTEND:20181021T080000Z
SUMMARY:JOTI/JOTA
END:VEVENT
END:VCALENDAR
