BEGIN:VCALENDAR
VERSION:2.0
PRODID:-//Squarespace Inc/Squarespace 6//v6//EN
BEGIN:VEVENT
UID:5b57fcf46d2a735541256176@squarespace.com
DTSTAMP:20180725T043537Z
DTSTART:20180816T101500Z
DTEND:20180816T114500Z
SUMMARY:Kub Kar Race Day
END:VEVENT
END:VCALENDAR
