BEGIN:VCALENDAR
VERSION:2.0
PRODID:-//Squarespace Inc/Squarespace 6//v6//EN
BEGIN:VEVENT
UID:58aa630b29687f223f0c0944@squarespace.com
DTSTAMP:20170220T034500Z
DTSTART:20170222T093000Z
DTEND:20170222T110000Z
SUMMARY:North Cottesloe SLSC
END:VEVENT
END:VCALENDAR
