BEGIN:VCALENDAR
VERSION:2.0
PRODID:-//Squarespace Inc/Squarespace 6//v6//EN
BEGIN:VEVENT
UID:5a0ac85b24a6942e844fb97f@squarespace.com
DTSTAMP:20171114T104617Z
DTSTART:20171114T110000Z
DTEND:20171224T120000Z
SUMMARY:Operation Christmas Child - Follow Your Gift
END:VEVENT
END:VCALENDAR
