BEGIN:VCALENDAR
VERSION:2.0
PRODID:-//Squarespace Inc/Squarespace 6//v6//EN
BEGIN:VEVENT
UID:56bd6087859fd0e5ed8ab5cd@squarespace.com
DTSTAMP:20160220T070305Z
DTSTART:20160228T223000Z
DTEND:20160229T013000Z
SUMMARY:Pasar Malam 2015 – Rope Bridge
GEO:-32.051724;115.865712
LOCATION:All Saints College\, Ewing Avenue\, Bull Creek\, WA\, 6149\, Austr
 alia
END:VEVENT
END:VCALENDAR
