BEGIN:VCALENDAR
VERSION:2.0
PRODID:-//Squarespace Inc/Squarespace 6//v6//EN
BEGIN:VEVENT
UID:5aff6afaaa4a99a865af1d57@squarespace.com
DTSTAMP:20180519T001005Z
DTSTART:20180525T090000Z
DTEND:20180527T100000Z
SUMMARY:Rottnest Invasion
END:VEVENT
END:VCALENDAR
