BEGIN:VCALENDAR
VERSION:2.0
PRODID:-//Squarespace Inc/Squarespace 6//v6//EN
BEGIN:VEVENT
UID:5b1e977c758d464ff596c6ee@squarespace.com
DTSTAMP:20180611T154315Z
DTSTART:20180721T100000Z
DTEND:20180721T130000Z
SUMMARY:Scitech Night 2018
END:VEVENT
END:VCALENDAR
