BEGIN:VCALENDAR
VERSION:2.0
PRODID:-//Squarespace Inc/Squarespace 6//v6//EN
BEGIN:VEVENT
UID:578f52a1bebafbdbc7952501@squarespace.com
DTSTAMP:20160720T103333Z
DTSTART:20160720T110000Z
DTEND:20160720T130000Z
SUMMARY:Scout Commence Term Three
END:VEVENT
END:VCALENDAR
