BEGIN:VCALENDAR
VERSION:2.0
PRODID:-//Squarespace Inc/Squarespace 6//v6//EN
BEGIN:VEVENT
UID:5896817f4402432d7683c15d@squarespace.com
DTSTAMP:20170224T031818Z
DTSTART:20170322T121500Z
DTEND:20170322T123000Z
SUMMARY:Scout Troop - Parent Information Evening *New Date*
END:VEVENT
END:VCALENDAR
