BEGIN:VCALENDAR
VERSION:2.0
PRODID:-//Squarespace Inc/Squarespace 6//v6//EN
BEGIN:VEVENT
UID:5bc999dc652deadabc005165@squarespace.com
DTSTAMP:20181121T225458Z
DTSTART:20181018T040000Z
DTEND:20181123T040000Z
SUMMARY:The Grass Tree Gossip - Newsletter
END:VEVENT
END:VCALENDAR
